BEGIN:VCALENDAR
VERSION:2.0
PRODID:-//Gaming-Grounds.de - Das Spielemagazin - ECPv6.2.5//NONSGML v1.0//EN
CALSCALE:GREGORIAN
METHOD:PUBLISH
X-ORIGINAL-URL:https://www.gaming-grounds.de
X-WR-CALDESC:Veranstaltungen für Gaming-Grounds.de - Das Spielemagazin
REFRESH-INTERVAL;VALUE=DURATION:PT1H
X-Robots-Tag:noindex
X-PUBLISHED-TTL:PT1H
BEGIN:VTIMEZONE
TZID:Europe/Berlin
BEGIN:DAYLIGHT
TZOFFSETFROM:+0100
TZOFFSETTO:+0200
TZNAME:CEST
DTSTART:20210328T010000
END:DAYLIGHT
BEGIN:STANDARD
TZOFFSETFROM:+0200
TZOFFSETTO:+0100
TZNAME:CET
DTSTART:20211031T010000
END:STANDARD
END:VTIMEZONE
BEGIN:VEVENT
DTSTART;VALUE=DATE:20210601
DTEND;VALUE=DATE:20210602
DTSTAMP:20260422T152720
CREATED:20210403T132812Z
LAST-MODIFIED:20211103T183509Z
UID:45031-1622505600-1622591999@www.gaming-grounds.de
SUMMARY:Wreckfest erscheint für PS5
DESCRIPTION:Am 1. Juni 2021 dürfen sich PlayStation 5 Spieler und Spielerinnen auf die Next-Gen-Version von Wreckfest freuen! Das Spiel von THQ Nordic soll die Hardware-Power der PS5 voll ausnutzen\, heißt es in der Ankündigung zum Release. \nHier eine Übersicht der Verbesserungen: \n\nDynamischer Dreck auf Fahrzeugen\nVerbesserte Schatten\, verbesserte Partikel und bessere Umgebungsbeluechtung\nTexturen bieten eine höhere Auflösung\nDie sogenannten „Godrays“ kommen ins Spiel\nNeue visuelle Effekte für Reifenspuren\nDualSense-Effekte\nDeutlich schnellere Ladezeiten\n\nMehr zu Wreckfest auf der PS5: \nWrext-Gen: Wreckfest erscheint am 1. Juni 2021 für PS5
URL:https://www.gaming-grounds.de/event/wreckfest-erscheint-fuer-ps5/
LOCATION:Deutschland\, Deutschland
CATEGORIES:Release
END:VEVENT
END:VCALENDAR