BEGIN:VCALENDAR
VERSION:2.0
PRODID:-//Gaming-Grounds.de - Das Spielemagazin - ECPv6.2.5//NONSGML v1.0//EN
CALSCALE:GREGORIAN
METHOD:PUBLISH
X-ORIGINAL-URL:https://www.gaming-grounds.de
X-WR-CALDESC:Veranstaltungen für Gaming-Grounds.de - Das Spielemagazin
REFRESH-INTERVAL;VALUE=DURATION:PT1H
X-Robots-Tag:noindex
X-PUBLISHED-TTL:PT1H
BEGIN:VTIMEZONE
TZID:Europe/Berlin
BEGIN:DAYLIGHT
TZOFFSETFROM:+0100
TZOFFSETTO:+0200
TZNAME:CEST
DTSTART:20210328T010000
END:DAYLIGHT
BEGIN:STANDARD
TZOFFSETFROM:+0200
TZOFFSETTO:+0100
TZNAME:CET
DTSTART:20211031T010000
END:STANDARD
END:VTIMEZONE
BEGIN:VEVENT
DTSTART;VALUE=DATE:20210602
DTEND;VALUE=DATE:20210603
DTSTAMP:20260424T133742
CREATED:20210602T105133Z
LAST-MODIFIED:20211103T183505Z
UID:48746-1622592000-1622678399@www.gaming-grounds.de
SUMMARY:WoW Burning Crusade Classic Release
DESCRIPTION:WoW Burning Crusade Classic – Eine neue Ära beginnt! Ab dem 2. Juni können Spieler auf der ganzen Welt durch das Dunkle Portal schreiten und die originalgetreue Nachbildung von Blizzard Entertainments gefeierter erster Erweiterung für World of Warcraft erleben. \nMehr zum WoW Burning Crusade Classic Release: \nJetzt live: World of Warcraft Burning Crusade Classic
URL:https://www.gaming-grounds.de/event/wow-burning-crusade-classic-release/
LOCATION:Deutschland\, Deutschland
CATEGORIES:Release
ATTACH;FMTTYPE=image/jpeg:https://www.gaming-grounds.de/wp-content/uploads/2021/02/WoW-Classic-Burning-Crusade-Announce-Trailer.jpeg
END:VEVENT
END:VCALENDAR